BEGIN:VCALENDAR
VERSION:2.0
PRODID:-//Tukios.com/
BEGIN:VEVENT
UID:ab33cf6b-0593-47f7-b9fc-cbd7eeaad484@www.myersfuneralhometn.com
DTSTAMP:20260424T184457Z
DTSTART:20260425T150000Z
DTEND:20260425T160000Z
SUMMARY:Visitation
DESCRIPTION:Englewood First Baptist Church
URL:https://www.myersfuneralhometn.com/obituaries/martha-fair
LOCATION: 13 Church St.  Englewood TN 37329
GEO:35.4272035;-84.4868943
END:VEVENT
END:VCALENDAR