BEGIN:VCALENDAR
VERSION:2.0
PRODID:-//Tukios.com/
BEGIN:VEVENT
UID:83dfedfe-9dd4-4182-b652-41b00f538eb3@www.myersfuneralhometn.com
DTSTAMP:20260424T183330Z
DTSTART:20260425T160000Z
DTEND:20260425T170000Z
SUMMARY:Funeral Service
DESCRIPTION:Englewood First Baptist Church
URL:https://www.myersfuneralhometn.com/obituaries/martha-fair
LOCATION: 13 Church St.  Englewood TN 37329
GEO:35.4272035;-84.4868943
END:VEVENT
END:VCALENDAR